BEGIN:VCALENDAR
VERSION:2.0
PRODID:-//saintjosephsymphony.org//NONSGML kigkonsult.se iCalcreator 2.30.1
 0//
CALSCALE:GREGORIAN
METHOD:PUBLISH
UID:f7e25357-2f85-4d94-8e01-e77ef9cb5990
X-WR-CALDESC:Enjoy jazzy summer time and patriotic favorites and a rousing 
 delivery of The Star Spangled Banner before the baseball game.\n
X-WR-RELCALID:88543debb7e3f9498b52b49ccea20d82
X-WR-TIMEZONE:America/Chicago
BEGIN:VTIMEZONE
TZID:America/Chicago
BEGIN:STANDARD
TZNAME:CST
DTSTART:20231105T020000
TZOFFSETFROM:-0500
TZOFFSETTO:-0600
RDATE:20241103T020000
RDATE:20251102T020000
END:STANDARD
BEGIN:DAYLIGHT
TZNAME:CDT
DTSTART:20240310T020000
TZOFFSETFROM:-0600
TZOFFSETTO:-0500
RDATE:20250309T020000
END:DAYLIGHT
END:VTIMEZONE
BEGIN:VEVENT
UID:010ce3be-264f-44eb-bb58-1e748c4ea7bf
DTSTAMP:20260423T155836Z
DESCRIPTION:Enjoy jazzy summer time and patriotic favorites and a rousing d
 elivery of The Star Spangled Banner before the baseball game.\n
DTSTART;TZID=America/Chicago:20240704T183000
DTEND;TZID=America/Chicago:20240704T213000
LOCATION:Phil Welch Stadium
SUMMARY:St Joseph Symphony Brass opens for The Mustangs’ Home Game
END:VEVENT
END:VCALENDAR
