BEGIN:VCALENDAR
VERSION:2.0
PRODID:-//saintjosephsymphony.org//NONSGML kigkonsult.se iCalcreator 2.30.1
 0//
CALSCALE:GREGORIAN
METHOD:PUBLISH
UID:3085afa1-38da-474d-b6a5-185e5a1eafd4
X-WR-CALDESC:Poet & Peasant Overture\nAdagietto from Symphony No. 5 – Gusta
 v Mahler\nPizzicatto Polka – Johann Strauss II\nBrettl-Lieder – 8 Cabaret 
 Songs by Arnold Schoenberg\nVoices of Spring Waltz – Johann Strauss II
X-WR-RELCALID:fda87e3df85c377a7bc2ce6a5a4f1629
X-WR-TIMEZONE:America/Chicago
BEGIN:VTIMEZONE
TZID:America/Chicago
BEGIN:STANDARD
TZNAME:CST
DTSTART:20231105T020000
TZOFFSETFROM:-0500
TZOFFSETTO:-0600
RDATE:20241103T020000
RDATE:20251102T020000
END:STANDARD
BEGIN:DAYLIGHT
TZNAME:CDT
DTSTART:20240310T020000
TZOFFSETFROM:-0600
TZOFFSETTO:-0500
RDATE:20250309T020000
RDATE:20260308T020000
END:DAYLIGHT
END:VTIMEZONE
BEGIN:VEVENT
UID:289043b2-5fe4-4fdd-a792-ec8764bf1c21
DTSTAMP:20260423T123850Z
DESCRIPTION:Poet & Peasant Overture\nAdagietto from Symphony No. 5 – Gustav
  Mahler\nPizzicatto Polka – Johann Strauss II\nBrettl-Lieder – 8 Cabaret S
 ongs by Arnold Schoenberg\nVoices of Spring Waltz – Johann Strauss II
DTSTART;TZID=America/Chicago:20240928T190000
DTEND;TZID=America/Chicago:20240928T210000
LOCATION:Missouri Theater
SUMMARY:Viennese Soiree featuring Lynn Spurgat\, guest vocalist
END:VEVENT
END:VCALENDAR
