BEGIN:VCALENDAR
VERSION:2.0
PRODID:-//saintjosephsymphony.org//NONSGML kigkonsult.se iCalcreator 2.30.1
 0//
CALSCALE:GREGORIAN
METHOD:PUBLISH
UID:6b432f6c-53af-4f75-b32e-9f5d8acbb9c7
X-WR-CALDESC:Material TBD\nWill include high school string students from al
 l three SJSD high schools\, having sectionals with SJS principals\, then p
 erforming with SJS for younger students.\n
X-WR-RELCALID:e36ab4f47a70bec8b6a41df756ed9570
X-WR-TIMEZONE:America/Chicago
BEGIN:VTIMEZONE
TZID:America/Chicago
BEGIN:STANDARD
TZNAME:CST
DTSTART:20241103T020000
TZOFFSETFROM:-0500
TZOFFSETTO:-0600
RDATE:20251102T020000
END:STANDARD
BEGIN:DAYLIGHT
TZNAME:CDT
DTSTART:20240310T020000
TZOFFSETFROM:-0600
TZOFFSETTO:-0500
RDATE:20250309T020000
RDATE:20260308T020000
END:DAYLIGHT
END:VTIMEZONE
BEGIN:VEVENT
UID:ad50f9f2-57b8-4192-8d09-dcafdb813936
DTSTAMP:20260423T094349Z
DESCRIPTION:Material TBD\nWill include high school string students from all
  three SJSD high schools\, having sectionals with SJS principals\, then pe
 rforming with SJS for younger students.\n
DTSTART;TZID=America/Chicago:20241114T121500
DTEND;TZID=America/Chicago:20241114T130000
LOCATION:Missouri Theater
SUMMARY:YOUNG AT ART (Youth Concerts Day)
END:VEVENT
END:VCALENDAR
