BEGIN:VCALENDAR
VERSION:2.0
PRODID:-//saintjosephsymphony.org//NONSGML kigkonsult.se iCalcreator 2.30.1
 0//
CALSCALE:GREGORIAN
METHOD:PUBLISH
UID:134c746e-206f-47a6-809b-b082d32985ac
X-WR-CALDESC:Material TBD\nWill include high school string students from al
 l three SJSD high schools\, having sectionals with SJS principals\, then p
 erforming with SJS for younger students.
X-WR-RELCALID:7414f4f6c4515f1fa7fb8c1b6857db83
X-WR-TIMEZONE:America/Chicago
BEGIN:VTIMEZONE
TZID:America/Chicago
BEGIN:STANDARD
TZNAME:CST
DTSTART:20241103T020000
TZOFFSETFROM:-0500
TZOFFSETTO:-0600
RDATE:20251102T020000
END:STANDARD
BEGIN:DAYLIGHT
TZNAME:CDT
DTSTART:20240310T020000
TZOFFSETFROM:-0600
TZOFFSETTO:-0500
RDATE:20250309T020000
RDATE:20260308T020000
END:DAYLIGHT
END:VTIMEZONE
BEGIN:VEVENT
UID:83d50f07-b308-4bc8-a8b7-9864a6b1c677
DTSTAMP:20260423T094328Z
DESCRIPTION:Material TBD\nWill include high school string students from all
  three SJSD high schools\, having sectionals with SJS principals\, then pe
 rforming with SJS for younger students.
DTSTART;TZID=America/Chicago:20241114T131500
DTEND;TZID=America/Chicago:20241114T140000
LOCATION:Missouri Theater
SUMMARY:YOUNG AT ART (Youth Concerts Day)
END:VEVENT
END:VCALENDAR
