BEGIN:VCALENDAR
VERSION:2.0
PRODID:-//saintjosephsymphony.org//NONSGML kigkonsult.se iCalcreator 2.30.1
 0//
CALSCALE:GREGORIAN
METHOD:PUBLISH
UID:e5957802-6ed2-4bce-8eb9-783cba6b7a29
X-WR-CALDESC:Sleigh Ride (guest conductor)		\nHome Alone: 3 Songs		\nChristmas 
 Song\nCarol of the Drum \nYouth Chorale selection\nWinter Wonderland\nCaro
 l Sing-a-Long	\nHandel’s Messiah\nFestive Sounds of Hanukah
X-WR-RELCALID:3f37a654adbae69dc4af5f61af571a85
X-WR-TIMEZONE:America/Chicago
BEGIN:VTIMEZONE
TZID:America/Chicago
BEGIN:STANDARD
TZNAME:CST
DTSTART:20241103T020000
TZOFFSETFROM:-0500
TZOFFSETTO:-0600
RDATE:20251102T020000
END:STANDARD
BEGIN:DAYLIGHT
TZNAME:CDT
DTSTART:20240310T020000
TZOFFSETFROM:-0600
TZOFFSETTO:-0500
RDATE:20250309T020000
RDATE:20260308T020000
END:DAYLIGHT
END:VTIMEZONE
BEGIN:VEVENT
UID:17d36657-5b45-486b-87be-e33883ab4b3d
DTSTAMP:20260423T080050Z
DESCRIPTION:Sleigh Ride (guest conductor)		\nHome Alone: 3 Songs		\nChristmas S
 ong\nCarol of the Drum \nYouth Chorale selection\nWinter Wonderland\nCarol
  Sing-a-Long	\nHandel’s Messiah\nFestive Sounds of Hanukah
DTSTART;TZID=America/Chicago:20241221T190000
DTEND;TZID=America/Chicago:20241221T210000
LOCATION:Missouri Theater
SUMMARY:HOLIDAY CHEER 2024!  With the St Joseph Youth Chorale
END:VEVENT
END:VCALENDAR
