BEGIN:VCALENDAR
VERSION:2.0
PRODID:-//saintjosephsymphony.org//NONSGML kigkonsult.se iCalcreator 2.30.1
 0//
CALSCALE:GREGORIAN
METHOD:PUBLISH
UID:669a3254-9b51-48d9-a0e9-3a4acd4f0a3f
X-WR-CALDESC:Lory Lacy Ensemble
X-WR-RELCALID:e89415a781a52debf9edb89682089dd5
X-WR-TIMEZONE:America/Chicago
BEGIN:VTIMEZONE
TZID:America/Chicago
BEGIN:STANDARD
TZNAME:CST
DTSTART:20241103T020000
TZOFFSETFROM:-0500
TZOFFSETTO:-0600
RDATE:20251102T020000
END:STANDARD
BEGIN:DAYLIGHT
TZNAME:CDT
DTSTART:20240310T020000
TZOFFSETFROM:-0600
TZOFFSETTO:-0500
RDATE:20250309T020000
RDATE:20260308T020000
END:DAYLIGHT
END:VTIMEZONE
BEGIN:VEVENT
UID:3152ecec-2a54-4595-94aa-828b95bfb965
DTSTAMP:20260423T064434Z
DESCRIPTION:Lory Lacy Ensemble
DTSTART;TZID=America/Chicago:20250126T150000
DTEND;TZID=America/Chicago:20250126T160000
LOCATION:Ashland United Methodist Church
SUMMARY:Symphoni Minis
END:VEVENT
END:VCALENDAR
