BEGIN:VCALENDAR
VERSION:2.0
PRODID:-//saintjosephsymphony.org//NONSGML kigkonsult.se iCalcreator 2.30.1
 0//
CALSCALE:GREGORIAN
METHOD:PUBLISH
UID:74d654b8-57d5-49db-ab35-cc4e598811fe
X-WR-CALDESC:Cocktails\, heavy hors d'ouevres\, champagne and chocolate awa
 it at this sparkling event! $55 per person payable at the door\, but kindl
 y RSVP by February 14th to social@saintjosephsymphony.org.
X-WR-RELCALID:603c3eb25bd3ae7dd373998cf026add7
X-WR-TIMEZONE:America/Chicago
BEGIN:VTIMEZONE
TZID:America/Chicago
BEGIN:STANDARD
TZNAME:CST
DTSTART:20241103T020000
TZOFFSETFROM:-0500
TZOFFSETTO:-0600
RDATE:20251102T020000
END:STANDARD
BEGIN:DAYLIGHT
TZNAME:CDT
DTSTART:20240310T020000
TZOFFSETFROM:-0600
TZOFFSETTO:-0500
RDATE:20250309T020000
RDATE:20260308T020000
END:DAYLIGHT
END:VTIMEZONE
BEGIN:VEVENT
UID:660ad39a-9d9a-4548-b997-144be18d85ee
DTSTAMP:20260423T045900Z
DESCRIPTION:Cocktails\, heavy hors d'ouevres\, champagne and chocolate awai
 t at this sparkling event! $55 per person payable at the door\, but kindly
  RSVP by February 14th to social@saintjosephsymphony.org.
DTSTART;TZID=America/Chicago:20250222T180000
DTEND;TZID=America/Chicago:20250222T200000
LOCATION:402 N. 7th St.\, Saint Joseph\, MO 64501-2231 US
SUMMARY:A Touch of Crystal
END:VEVENT
END:VCALENDAR
