BEGIN:VCALENDAR
VERSION:2.0
PRODID:-//saintjosephsymphony.org//NONSGML kigkonsult.se iCalcreator 2.30.1
 0//
CALSCALE:GREGORIAN
METHOD:PUBLISH
UID:5a6a428e-46c5-4552-8ebc-74a35bb891c0
X-WR-CALDESC:Requiem with choirs and soloists
X-WR-RELCALID:093207e094af89646bbee20dcd219d16
X-WR-TIMEZONE:America/Chicago
BEGIN:VTIMEZONE
TZID:America/Chicago
BEGIN:STANDARD
TZNAME:CST
DTSTART:20241103T020000
TZOFFSETFROM:-0500
TZOFFSETTO:-0600
RDATE:20251102T020000
END:STANDARD
BEGIN:DAYLIGHT
TZNAME:CDT
DTSTART:20250309T020000
TZOFFSETFROM:-0600
TZOFFSETTO:-0500
RDATE:20260308T020000
END:DAYLIGHT
END:VTIMEZONE
BEGIN:VEVENT
UID:f99c2502-cb6d-4a9f-8191-da255f3fce04
DTSTAMP:20260423T032209Z
DESCRIPTION:Requiem with choirs and soloists
DTSTART;TZID=America/Chicago:20250322T190000
DTEND;TZID=America/Chicago:20250322T210000
LOCATION:Missouri Theater
SUMMARY:Mozart’s Requiem with St Joseph Community Chorus\, Benedictine Coll
 ege Chorus
END:VEVENT
END:VCALENDAR
