BEGIN:VCALENDAR
VERSION:2.0
PRODID:-//saintjosephsymphony.org//NONSGML kigkonsult.se iCalcreator 2.30.1
 0//
CALSCALE:GREGORIAN
METHOD:PUBLISH
UID:b0435570-f06f-4871-94c5-b7ec0c3c3c5e
X-WR-CALDESC:Concerto for 2 Violins – Bach\nSymphony No. 3 “Scottish” – Men
 delssohn
X-WR-RELCALID:1070644441f88c7a9a157f5974fd2ab3
X-WR-TIMEZONE:America/Chicago
BEGIN:VTIMEZONE
TZID:America/Chicago
BEGIN:STANDARD
TZNAME:CST
DTSTART:20241103T020000
TZOFFSETFROM:-0500
TZOFFSETTO:-0600
RDATE:20251102T020000
END:STANDARD
BEGIN:DAYLIGHT
TZNAME:CDT
DTSTART:20250309T020000
TZOFFSETFROM:-0600
TZOFFSETTO:-0500
RDATE:20260308T020000
END:DAYLIGHT
END:VTIMEZONE
BEGIN:VEVENT
UID:794c0bdb-0010-4f3d-a410-ec3bbe0e2aa7
DTSTAMP:20260423T014131Z
DESCRIPTION:Concerto for 2 Violins – Bach\nSymphony No. 3 “Scottish” – Mend
 elssohn
DTSTART;TZID=America/Chicago:20250419T190000
DTEND;TZID=America/Chicago:20250419T213000
LOCATION:Missouri Theater
SUMMARY:Bach to Mendelssohn
END:VEVENT
END:VCALENDAR
