BEGIN:VCALENDAR
VERSION:2.0
PRODID:-//saintjosephsymphony.org//NONSGML kigkonsult.se iCalcreator 2.30.1
 0//
CALSCALE:GREGORIAN
METHOD:PUBLISH
UID:16039062-27dd-45da-9a3d-adbdf2935c0f
X-WR-CALDESC:Join us for an evening of music\, mingling\, and mixing at Caf
 e Belle Epoque. Heavy appetizers and cash bar.
X-WR-RELCALID:f6f190be86fc8bf36066a0cbbb1cae6f
X-WR-TIMEZONE:America/Chicago
BEGIN:VTIMEZONE
TZID:America/Chicago
BEGIN:STANDARD
TZNAME:CST
DTSTART:20241103T020000
TZOFFSETFROM:-0500
TZOFFSETTO:-0600
RDATE:20251102T020000
RDATE:20261101T020000
END:STANDARD
BEGIN:DAYLIGHT
TZNAME:CDT
DTSTART:20250309T020000
TZOFFSETFROM:-0600
TZOFFSETTO:-0500
RDATE:20260308T020000
END:DAYLIGHT
END:VTIMEZONE
BEGIN:VEVENT
UID:cc5f0698-8ea3-45f5-a4be-8289e22404e0
DTSTAMP:20260422T190331Z
DESCRIPTION:Join us for an evening of music\, mingling\, and mixing at Cafe
  Belle Epoque. Heavy appetizers and cash bar.
DTSTART;TZID=America/Chicago:20250828T170000
DTEND;TZID=America/Chicago:20250828T190000
LOCATION:1141 Frederick Avenue\, Saint Joseph\, AL 64501 US
SUMMARY:After Hours with the Chamber
END:VEVENT
END:VCALENDAR
