BEGIN:VCALENDAR
VERSION:2.0
PRODID:-//saintjosephsymphony.org//NONSGML kigkonsult.se iCalcreator 2.30.1
 0//
CALSCALE:GREGORIAN
METHOD:PUBLISH
UID:f9a5ee68-1049-48ac-bd37-d22d3730df94
X-WR-CALDESC:Musicians from the Saint Joseph Symphony alongside local music
 ians and singers bring you a concert that the entire family will enjoy wit
 h musical selections from favorite animated features\, plays\, and films.
X-WR-RELCALID:cb80cc866c5a0f1704aad009e940895b
X-WR-TIMEZONE:America/Chicago
BEGIN:VTIMEZONE
TZID:America/Chicago
BEGIN:STANDARD
TZNAME:CST
DTSTART:20241103T020000
TZOFFSETFROM:-0500
TZOFFSETTO:-0600
RDATE:20251102T020000
RDATE:20261101T020000
END:STANDARD
BEGIN:DAYLIGHT
TZNAME:CDT
DTSTART:20250309T020000
TZOFFSETFROM:-0600
TZOFFSETTO:-0500
RDATE:20260308T020000
RDATE:20270314T020000
END:DAYLIGHT
END:VTIMEZONE
BEGIN:VEVENT
UID:41d5095d-d084-48c0-963f-9d6160b515fe
DTSTAMP:20260422T173007Z
DESCRIPTION:Musicians from the Saint Joseph Symphony alongside local musici
 ans and singers bring you a concert that the entire family will enjoy with
  musical selections from favorite animated features\, plays\, and films.
DTSTART;TZID=America/Chicago:20250926T190000
DTEND;TZID=America/Chicago:20250926T200000
LOCATION:717 Edmond St\, Saint Joseph\, MO 64501 US
SUMMARY:Animated Adventures and Family Favorites
END:VEVENT
END:VCALENDAR
