BEGIN:VCALENDAR
VERSION:2.0
PRODID:-//saintjosephsymphony.org//NONSGML kigkonsult.se iCalcreator 2.30.1
 0//
CALSCALE:GREGORIAN
METHOD:PUBLISH
UID:0919bef9-faab-472e-80a7-b5be1224d1eb
X-WR-CALDESC:Experience the magic of cinema like never before! Join us for 
 an unforgettable evening as the Saint Joseph Symphony brings a classic hor
 ror film to life (pun intended)\, performing a newly-composed score by Mic
 hael Shapiro in perfect harmony with the on-screen action to the classic 1
 931 Universal film starring Boris Karloff\, Frankenstein. The original fil
 m had no score. Shapiro was commissioned to write one which has found grea
 t success since its debut in 2002. Feel the power of music and film unite 
 in a breathtaking live performance\, immersing you deeper into the action 
 than ever before. This unique event offers an entirely new way to experien
 ce a classic film in one of the most iconic movie theaters of bygone days 
 - our own Missouri Theater. Don't miss your chance to witness the drama\, 
 emotion\, and excitement unfold in real-time! Get your tickets today and b
 e part of the cinematic experience of a lifetime. Costumes are encouraged 
 for this ghoulish occasion!
X-WR-RELCALID:ce1fd7228c4eaf23c513fc67716ca08d
X-WR-TIMEZONE:America/Chicago
BEGIN:VTIMEZONE
TZID:America/Chicago
BEGIN:STANDARD
TZNAME:CST
DTSTART:20241103T020000
TZOFFSETFROM:-0500
TZOFFSETTO:-0600
RDATE:20251102T020000
RDATE:20261101T020000
END:STANDARD
BEGIN:DAYLIGHT
TZNAME:CDT
DTSTART:20250309T020000
TZOFFSETFROM:-0600
TZOFFSETTO:-0500
RDATE:20260308T020000
RDATE:20270314T020000
END:DAYLIGHT
END:VTIMEZONE
BEGIN:VEVENT
UID:073dc1ca-296d-4590-ba2b-65dcf75d3b12
DTSTAMP:20260422T154756Z
DESCRIPTION:Experience the magic of cinema like never before! Join us for a
 n unforgettable evening as the Saint Joseph Symphony brings a classic horr
 or film to life (pun intended)\, performing a newly-composed score by Mich
 ael Shapiro in perfect harmony with the on-screen action to the classic 19
 31 Universal film starring Boris Karloff\, Frankenstein. The original film
  had no score. Shapiro was commissioned to write one which has found great
  success since its debut in 2002. Feel the power of music and film unite i
 n a breathtaking live performance\, immersing you deeper into the action t
 han ever before. This unique event offers an entirely new way to experienc
 e a classic film in one of the most iconic movie theaters of bygone days -
  our own Missouri Theater. Don't miss your chance to witness the drama\, e
 motion\, and excitement unfold in real-time! Get your tickets today and be
  part of the cinematic experience of a lifetime. Costumes are encouraged f
 or this ghoulish occasion!
DTSTART;TZID=America/Chicago:20251018T190000
DTEND;TZID=America/Chicago:20251018T200000
LOCATION:717 Edmond St\, Saint Joseph\, MO 64501 US
SUMMARY:Frankenstein....IT'S LIVE!!!
END:VEVENT
END:VCALENDAR
