BEGIN:VCALENDAR
VERSION:2.0
PRODID:-//saintjosephsymphony.org//NONSGML kigkonsult.se iCalcreator 2.30.1
 0//
CALSCALE:GREGORIAN
METHOD:PUBLISH
UID:cbae0906-b2c0-4fe5-9f62-5de1a050a1ef
X-WR-CALDESC:Celebrate the 250th Anniversary of the United States' independ
 ence with members of the Saint Joseph Symphony performing patriotic and po
 ps music indigenous to the American Experience!
X-WR-RELCALID:f8895b5a8131c5d04efb9e606d24f477
X-WR-TIMEZONE:America/Chicago
BEGIN:VTIMEZONE
TZID:America/Chicago
BEGIN:STANDARD
TZNAME:CST
DTSTART:20251102T020000
TZOFFSETFROM:-0500
TZOFFSETTO:-0600
RDATE:20261101T020000
END:STANDARD
BEGIN:DAYLIGHT
TZNAME:CDT
DTSTART:20250309T020000
TZOFFSETFROM:-0600
TZOFFSETTO:-0500
RDATE:20260308T020000
RDATE:20270314T020000
END:DAYLIGHT
END:VTIMEZONE
BEGIN:VEVENT
UID:27a30c82-ab03-4222-b8c7-f526d2fd4445
DTSTAMP:20260420T145044Z
DESCRIPTION:Celebrate the 250th Anniversary of the United States' independe
 nce with members of the Saint Joseph Symphony performing patriotic and pop
 s music indigenous to the American Experience!
DTSTART;TZID=America/Chicago:20260116T190000
DTEND;TZID=America/Chicago:20260116T200000
LOCATION:927 Faraon St\, Saint Joseph\, MO 64501 US
SUMMARY:Star-Spangled Chamber
END:VEVENT
END:VCALENDAR
